BEGIN:VCALENDAR
VERSION:2.0
PRODID:-//gardenterrace.us//NONSGML kigkonsult.se iCalcreator 2.30.10//
CALSCALE:GREGORIAN
METHOD:PUBLISH
UID:33770423-e54d-41a4-bcd7-9e9e6564f607
X-WR-CALDESC:
X-WR-RELCALID:6a7e6f8d9cfc96321c506c240ebb9856
X-WR-TIMEZONE:America/Los_Angeles
BEGIN:VTIMEZONE
TZID:America/Los_Angeles
BEGIN:STANDARD
TZNAME:PST
DTSTART:20271107T020000
TZOFFSETFROM:-0700
TZOFFSETTO:-0800
RDATE:20281105T020000
END:STANDARD
BEGIN:DAYLIGHT
TZNAME:PDT
DTSTART:20270314T020000
TZOFFSETFROM:-0800
TZOFFSETTO:-0700
RDATE:20280312T020000
RDATE:20290311T020000
END:DAYLIGHT
END:VTIMEZONE
BEGIN:VEVENT
UID:b9d2668a-ca44-489b-82d0-282bd3df898c
DTSTAMP:20260424T192920Z
DESCRIPTION:
DTSTART;TZID=America/Los_Angeles:20271112T080000
DTEND;TZID=America/Los_Angeles:20271112T110000
LOCATION:500 N Emerson Ave\, Wenatchee\, AL 98801 US
SUMMARY:Bake Sale
END:VEVENT
END:VCALENDAR
