BEGIN:VCALENDAR
VERSION:2.0
PRODID:-//gardenterrace.us//NONSGML kigkonsult.se iCalcreator 2.30.10//
CALSCALE:GREGORIAN
METHOD:PUBLISH
UID:b30cd9a4-b8ab-4f61-b01d-d0fbb0fc1ba3
X-WR-CALDESC:
X-WR-RELCALID:2a44548691067c9c885fd06c8000ffab
X-WR-TIMEZONE:America/Los_Angeles
BEGIN:VTIMEZONE
TZID:America/Los_Angeles
BEGIN:STANDARD
TZNAME:PST
DTSTART:20261101T020000
TZOFFSETFROM:-0700
TZOFFSETTO:-0800
RDATE:20271107T020000
RDATE:20281105T020000
END:STANDARD
BEGIN:DAYLIGHT
TZNAME:PDT
DTSTART:20270314T020000
TZOFFSETFROM:-0800
TZOFFSETTO:-0700
RDATE:20280312T020000
RDATE:20290311T020000
END:DAYLIGHT
END:VTIMEZONE
BEGIN:VEVENT
UID:9c6bbfe2-6200-4c46-acfe-cde400c6e701
DTSTAMP:20260424T134044Z
DESCRIPTION:
DTSTART;TZID=America/Los_Angeles:20271018T100000
DTEND;TZID=America/Los_Angeles:20271018T110000
LOCATION:500 N Emerson Ave\, Wenatchee\, WA 98801 US
SUMMARY:BINGO
END:VEVENT
END:VCALENDAR
