BEGIN:VCALENDAR
VERSION:2.0
PRODID:-//gardenterrace.us//NONSGML kigkonsult.se iCalcreator 2.30.10//
CALSCALE:GREGORIAN
METHOD:PUBLISH
UID:53e90a61-7ddf-4f45-9402-239b5177ca67
X-WR-CALDESC:
X-WR-RELCALID:2180e5979496ab1949f47bac63c4e5ba
X-WR-TIMEZONE:America/Los_Angeles
BEGIN:VTIMEZONE
TZID:America/Los_Angeles
BEGIN:STANDARD
TZNAME:PST
DTSTART:20261101T020000
TZOFFSETFROM:-0700
TZOFFSETTO:-0800
RDATE:20271107T020000
RDATE:20281105T020000
END:STANDARD
BEGIN:DAYLIGHT
TZNAME:PDT
DTSTART:20270314T020000
TZOFFSETFROM:-0800
TZOFFSETTO:-0700
RDATE:20280312T020000
RDATE:20290311T020000
END:DAYLIGHT
END:VTIMEZONE
BEGIN:VEVENT
UID:22973d10-b913-4d0c-93b7-b28f9951d652
DTSTAMP:20260424T134303Z
DESCRIPTION:
DTSTART;TZID=America/Los_Angeles:20271008T080000
DTEND;TZID=America/Los_Angeles:20271008T110000
LOCATION:500 N Emerson Ave\, Wenatchee\, AL 98801 US
SUMMARY:Bake Sale
END:VEVENT
END:VCALENDAR
