BEGIN:VCALENDAR
VERSION:2.0
PRODID:-//gardenterrace.us//NONSGML kigkonsult.se iCalcreator 2.30.10//
CALSCALE:GREGORIAN
METHOD:PUBLISH
UID:a362c4f3-75de-4c06-be21-d44a34d4351f
X-WR-CALDESC:
X-WR-RELCALID:c6e4c571b9518c75d82647d87729c1dd
X-WR-TIMEZONE:America/Los_Angeles
BEGIN:VTIMEZONE
TZID:America/Los_Angeles
BEGIN:STANDARD
TZNAME:PST
DTSTART:20261101T020000
TZOFFSETFROM:-0700
TZOFFSETTO:-0800
RDATE:20271107T020000
RDATE:20281105T020000
END:STANDARD
BEGIN:DAYLIGHT
TZNAME:PDT
DTSTART:20270314T020000
TZOFFSETFROM:-0800
TZOFFSETTO:-0700
RDATE:20280312T020000
END:DAYLIGHT
END:VTIMEZONE
BEGIN:VEVENT
UID:24d6eacb-4ee5-4560-9c3e-5f38bd241f2e
DTSTAMP:20260424T121250Z
DESCRIPTION:
DTSTART;TZID=America/Los_Angeles:20270907T130000
DTEND;TZID=America/Los_Angeles:20270907T140000
LOCATION:500 N Emerson Ave\, Wenatchee\, AL 98801 US
SUMMARY:Sit & Chat with Tina
END:VEVENT
END:VCALENDAR
