BEGIN:VCALENDAR
VERSION:2.0
PRODID:-//gardenterrace.us//NONSGML kigkonsult.se iCalcreator 2.30.10//
CALSCALE:GREGORIAN
METHOD:PUBLISH
UID:1debc77c-da59-4458-812d-4f9a13146623
X-WR-CALDESC:
X-WR-RELCALID:6bd7df5b42aee7b9f60a70cdfe09508a
X-WR-TIMEZONE:America/Los_Angeles
BEGIN:VTIMEZONE
TZID:America/Los_Angeles
BEGIN:STANDARD
TZNAME:PST
DTSTART:20261101T020000
TZOFFSETFROM:-0700
TZOFFSETTO:-0800
RDATE:20271107T020000
RDATE:20281105T020000
END:STANDARD
BEGIN:DAYLIGHT
TZNAME:PDT
DTSTART:20270314T020000
TZOFFSETFROM:-0800
TZOFFSETTO:-0700
RDATE:20280312T020000
END:DAYLIGHT
END:VTIMEZONE
BEGIN:VEVENT
UID:66aad8bc-d116-4d43-aede-a795d67ec5ad
DTSTAMP:20260424T121733Z
DESCRIPTION:
DTSTART;TZID=America/Los_Angeles:20270901T183000
DTEND;TZID=America/Los_Angeles:20270901T200000
LOCATION:500 N Emerson Ave\, Wenatchee\, AL 98801 US
SUMMARY:Resident Council Meeting
END:VEVENT
END:VCALENDAR
