BEGIN:VCALENDAR
VERSION:2.0
PRODID:-//gardenterrace.us//NONSGML kigkonsult.se iCalcreator 2.30.10//
CALSCALE:GREGORIAN
METHOD:PUBLISH
UID:90a1f18a-79fd-4366-b715-f67480bf876c
X-WR-CALDESC:
X-WR-RELCALID:791d3a46e1931ac62e53cbf9c3df1915
X-WR-TIMEZONE:America/Los_Angeles
BEGIN:VTIMEZONE
TZID:America/Los_Angeles
BEGIN:STANDARD
TZNAME:PST
DTSTART:20261101T020000
TZOFFSETFROM:-0700
TZOFFSETTO:-0800
RDATE:20271107T020000
RDATE:20281105T020000
END:STANDARD
BEGIN:DAYLIGHT
TZNAME:PDT
DTSTART:20270314T020000
TZOFFSETFROM:-0800
TZOFFSETTO:-0700
RDATE:20280312T020000
END:DAYLIGHT
END:VTIMEZONE
BEGIN:VEVENT
UID:2eff154f-6def-4938-9887-5cf9b58e79e1
DTSTAMP:20260424T071138Z
DESCRIPTION:
DTSTART;TZID=America/Los_Angeles:20270625T110000
DTEND;TZID=America/Los_Angeles:20270625T120000
LOCATION:500 N Emerson Ave\, Wenatchee\, WA 98801 US
SUMMARY:Blank Slate Game
END:VEVENT
END:VCALENDAR
