BEGIN:VCALENDAR
VERSION:2.0
PRODID:-//gardenterrace.us//NONSGML kigkonsult.se iCalcreator 2.30.10//
CALSCALE:GREGORIAN
METHOD:PUBLISH
UID:110e50c0-1077-4226-88e3-ce2dfda5213e
X-WR-CALDESC:
X-WR-RELCALID:3d673620aba6f1c2360b850ec3ba2d76
X-WR-TIMEZONE:America/Los_Angeles
BEGIN:VTIMEZONE
TZID:America/Los_Angeles
BEGIN:STANDARD
TZNAME:PST
DTSTART:20261101T020000
TZOFFSETFROM:-0700
TZOFFSETTO:-0800
RDATE:20271107T020000
RDATE:20281105T020000
END:STANDARD
BEGIN:DAYLIGHT
TZNAME:PDT
DTSTART:20270314T020000
TZOFFSETFROM:-0800
TZOFFSETTO:-0700
RDATE:20280312T020000
END:DAYLIGHT
END:VTIMEZONE
BEGIN:VEVENT
UID:63742720-7d3b-4fcb-ad7b-8ebf9e553875
DTSTAMP:20260424T071704Z
DESCRIPTION:
DTSTART;TZID=America/Los_Angeles:20270620T160000
DTEND;TZID=America/Los_Angeles:20270620T170000
LOCATION:500 N Emerson Ave\, Wenatchee\, WA 98801 US
SUMMARY:Vespers Service - Living Room
END:VEVENT
END:VCALENDAR
