BEGIN:VCALENDAR
VERSION:2.0
PRODID:-//gardenterrace.us//NONSGML kigkonsult.se iCalcreator 2.30.10//
CALSCALE:GREGORIAN
METHOD:PUBLISH
UID:8032c3b8-333f-4e63-a26f-4c6fb99b2073
X-WR-CALDESC:
X-WR-RELCALID:1fabfdb05f059bb2974859c245ca9f45
X-WR-TIMEZONE:America/Los_Angeles
BEGIN:VTIMEZONE
TZID:America/Los_Angeles
BEGIN:STANDARD
TZNAME:PST
DTSTART:20261101T020000
TZOFFSETFROM:-0700
TZOFFSETTO:-0800
RDATE:20271107T020000
RDATE:20281105T020000
END:STANDARD
BEGIN:DAYLIGHT
TZNAME:PDT
DTSTART:20270314T020000
TZOFFSETFROM:-0800
TZOFFSETTO:-0700
RDATE:20280312T020000
END:DAYLIGHT
END:VTIMEZONE
BEGIN:VEVENT
UID:ec073210-6697-4ea9-836c-adfe65805be1
DTSTAMP:20260424T072542Z
DESCRIPTION:
DTSTART;TZID=America/Los_Angeles:20270602T183000
DTEND;TZID=America/Los_Angeles:20270602T200000
LOCATION:500 N Emerson Ave\, Wenatchee\, AL 98801 US
SUMMARY:Resident Council Meeting
END:VEVENT
END:VCALENDAR
