BEGIN:VCALENDAR
VERSION:2.0
PRODID:-//gardenterrace.us//NONSGML kigkonsult.se iCalcreator 2.30.10//
CALSCALE:GREGORIAN
METHOD:PUBLISH
UID:1a392bf3-49fd-4195-a200-b51913d254fd
X-WR-CALDESC:
X-WR-RELCALID:9d53db290e79be76238f15a7ea3ca43e
X-WR-TIMEZONE:America/Los_Angeles
BEGIN:VTIMEZONE
TZID:America/Los_Angeles
BEGIN:STANDARD
TZNAME:PST
DTSTART:20261101T020000
TZOFFSETFROM:-0700
TZOFFSETTO:-0800
RDATE:20271107T020000
END:STANDARD
BEGIN:DAYLIGHT
TZNAME:PDT
DTSTART:20270314T020000
TZOFFSETFROM:-0800
TZOFFSETTO:-0700
RDATE:20280312T020000
END:DAYLIGHT
END:VTIMEZONE
BEGIN:VEVENT
UID:da98c2f4-684b-4c1a-b19c-c356d63fc48a
DTSTAMP:20260424T035323Z
DESCRIPTION:
DTSTART;TZID=America/Los_Angeles:20270409T080000
DTEND;TZID=America/Los_Angeles:20270409T110000
LOCATION:500 N Emerson Ave\, Wenatchee\, AL 98801 US
SUMMARY:Bake Sale
END:VEVENT
END:VCALENDAR
