BEGIN:VCALENDAR
VERSION:2.0
PRODID:-//gardenterrace.us//NONSGML kigkonsult.se iCalcreator 2.30.10//
CALSCALE:GREGORIAN
METHOD:PUBLISH
UID:529b6d06-4850-45ac-8969-c0d1d0256efe
X-WR-CALDESC:
X-WR-RELCALID:329a7360c8a0f906b72e6a856ae38f6a
X-WR-TIMEZONE:America/Los_Angeles
BEGIN:VTIMEZONE
TZID:America/Los_Angeles
BEGIN:STANDARD
TZNAME:PST
DTSTART:20261101T020000
TZOFFSETFROM:-0700
TZOFFSETTO:-0800
RDATE:20271107T020000
END:STANDARD
BEGIN:DAYLIGHT
TZNAME:PDT
DTSTART:20260308T020000
TZOFFSETFROM:-0800
TZOFFSETTO:-0700
RDATE:20270314T020000
RDATE:20280312T020000
END:DAYLIGHT
END:VTIMEZONE
BEGIN:VEVENT
UID:9aac350f-f2d0-4ce9-9e0c-f0b8a3db062c
DTSTAMP:20260424T004410Z
DESCRIPTION:
DTSTART;TZID=America/Los_Angeles:20270226T110000
DTEND;TZID=America/Los_Angeles:20270226T120000
LOCATION:500 N Emerson Ave\, Wenatchee\, WA 98801 US
SUMMARY:Blank Slate Game
END:VEVENT
END:VCALENDAR
