BEGIN:VCALENDAR
VERSION:2.0
PRODID:-//gardenterrace.us//NONSGML kigkonsult.se iCalcreator 2.30.10//
CALSCALE:GREGORIAN
METHOD:PUBLISH
UID:7fe387c7-5746-4c41-89cf-726f2286bc7c
X-WR-CALDESC:
X-WR-RELCALID:18b5af8027f97aec14796c2cf3dafa93
X-WR-TIMEZONE:America/Los_Angeles
BEGIN:VTIMEZONE
TZID:America/Los_Angeles
BEGIN:STANDARD
TZNAME:PST
DTSTART:20261101T020000
TZOFFSETFROM:-0700
TZOFFSETTO:-0800
RDATE:20271107T020000
END:STANDARD
BEGIN:DAYLIGHT
TZNAME:PDT
DTSTART:20260308T020000
TZOFFSETFROM:-0800
TZOFFSETTO:-0700
RDATE:20270314T020000
RDATE:20280312T020000
END:DAYLIGHT
END:VTIMEZONE
BEGIN:VEVENT
UID:b9167c8a-d217-4060-9e4a-eb9a41ce1cfb
DTSTAMP:20260424T004239Z
DESCRIPTION:
DTSTART;TZID=America/Los_Angeles:20270202T130000
DTEND;TZID=America/Los_Angeles:20270202T140000
LOCATION:500 N Emerson Ave\, Wenatchee\, AL 98801 US
SUMMARY:Sit & Chat with Tina
END:VEVENT
END:VCALENDAR
