BEGIN:VCALENDAR
VERSION:2.0
PRODID:-//gardenterrace.us//NONSGML kigkonsult.se iCalcreator 2.30.10//
CALSCALE:GREGORIAN
METHOD:PUBLISH
UID:91123258-5ee3-4e5c-bde0-d75e12f91903
X-WR-CALDESC:Join us in making hats for the Wenatchee Valley children in ne
 ed.
X-WR-RELCALID:934982b7c4c03567b37d5d150fc7490b
X-WR-TIMEZONE:America/Los_Angeles
BEGIN:VTIMEZONE
TZID:America/Los_Angeles
BEGIN:STANDARD
TZNAME:PST
DTSTART:20261101T020000
TZOFFSETFROM:-0700
TZOFFSETTO:-0800
RDATE:20271107T020000
END:STANDARD
BEGIN:DAYLIGHT
TZNAME:PDT
DTSTART:20260308T020000
TZOFFSETFROM:-0800
TZOFFSETTO:-0700
RDATE:20270314T020000
RDATE:20280312T020000
END:DAYLIGHT
END:VTIMEZONE
BEGIN:VEVENT
UID:687bd8bd-8535-4cfc-9288-0dfe4d34ee1e
DTSTAMP:20260423T214942Z
DESCRIPTION:Join us in making hats for the Wenatchee Valley children in nee
 d.
DTSTART;TZID=America/Los_Angeles:20261217T100000
DTEND;TZID=America/Los_Angeles:20261217T110000
LOCATION:500 N Emerson Ave\, Wenatchee\, AL 98801 US
SUMMARY:Hats for Kids - Knitting Group
END:VEVENT
END:VCALENDAR
