BEGIN:VCALENDAR
VERSION:2.0
PRODID:-//gardenterrace.us//NONSGML kigkonsult.se iCalcreator 2.30.10//
CALSCALE:GREGORIAN
METHOD:PUBLISH
UID:91ad87a3-51cf-418a-9006-7c5252cdb431
X-WR-CALDESC:
X-WR-RELCALID:dabba97c13d4afbe2e0e15073ddbbe74
X-WR-TIMEZONE:America/Los_Angeles
BEGIN:VTIMEZONE
TZID:America/Los_Angeles
BEGIN:STANDARD
TZNAME:PST
DTSTART:20251102T020000
TZOFFSETFROM:-0700
TZOFFSETTO:-0800
RDATE:20261101T020000
RDATE:20271107T020000
END:STANDARD
BEGIN:DAYLIGHT
TZNAME:PDT
DTSTART:20260308T020000
TZOFFSETFROM:-0800
TZOFFSETTO:-0700
RDATE:20270314T020000
RDATE:20280312T020000
END:DAYLIGHT
END:VTIMEZONE
BEGIN:VEVENT
UID:e8090ab9-aa3d-4598-b99f-b028fcc353d4
DTSTAMP:20260423T184612Z
DESCRIPTION:
DTSTART;TZID=America/Los_Angeles:20261007T183000
DTEND;TZID=America/Los_Angeles:20261007T200000
LOCATION:500 N Emerson Ave\, Wenatchee\, AL 98801 US
SUMMARY:Resident Council Meeting
END:VEVENT
END:VCALENDAR
