BEGIN:VCALENDAR
VERSION:2.0
PRODID:-//gardenterrace.us//NONSGML kigkonsult.se iCalcreator 2.30.10//
CALSCALE:GREGORIAN
METHOD:PUBLISH
UID:27a22df8-f104-425b-b3c2-328bbee2f9c5
X-WR-CALDESC:
X-WR-RELCALID:6cdfaff0d1ecf23c0392cd92756d8854
X-WR-TIMEZONE:America/Los_Angeles
BEGIN:VTIMEZONE
TZID:America/Los_Angeles
BEGIN:STANDARD
TZNAME:PST
DTSTART:20251102T020000
TZOFFSETFROM:-0700
TZOFFSETTO:-0800
RDATE:20261101T020000
RDATE:20271107T020000
END:STANDARD
BEGIN:DAYLIGHT
TZNAME:PDT
DTSTART:20260308T020000
TZOFFSETFROM:-0800
TZOFFSETTO:-0700
RDATE:20270314T020000
RDATE:20280312T020000
END:DAYLIGHT
END:VTIMEZONE
BEGIN:VEVENT
UID:6b19aadb-3dbb-4459-a088-70d208a7a629
DTSTAMP:20260423T183728Z
DESCRIPTION:
DTSTART;TZID=America/Los_Angeles:20261006T130000
DTEND;TZID=America/Los_Angeles:20261006T140000
LOCATION:500 N Emerson Ave\, Wenatchee\, AL 98801 US
SUMMARY:Sit & Chat with Tina
END:VEVENT
END:VCALENDAR
