BEGIN:VCALENDAR
VERSION:2.0
PRODID:-//gardenterrace.us//NONSGML kigkonsult.se iCalcreator 2.30.10//
CALSCALE:GREGORIAN
METHOD:PUBLISH
UID:6f7f41b4-bb2f-48e8-8384-3296eaa873dc
X-WR-CALDESC:
X-WR-RELCALID:42dfe1ffa0d153b0e495dc2bb767a161
X-WR-TIMEZONE:America/Los_Angeles
BEGIN:VTIMEZONE
TZID:America/Los_Angeles
BEGIN:STANDARD
TZNAME:PST
DTSTART:20251102T020000
TZOFFSETFROM:-0700
TZOFFSETTO:-0800
RDATE:20261101T020000
RDATE:20271107T020000
END:STANDARD
BEGIN:DAYLIGHT
TZNAME:PDT
DTSTART:20260308T020000
TZOFFSETFROM:-0800
TZOFFSETTO:-0700
RDATE:20270314T020000
RDATE:20280312T020000
END:DAYLIGHT
END:VTIMEZONE
BEGIN:VEVENT
UID:6cf19611-ea08-4534-971d-0587770cee66
DTSTAMP:20260423T165317Z
DESCRIPTION:
DTSTART;TZID=America/Los_Angeles:20260925T110000
DTEND;TZID=America/Los_Angeles:20260925T120000
LOCATION:500 N Emerson Ave\, Wenatchee\, WA 98801 US
SUMMARY:Blank Slate Game
END:VEVENT
END:VCALENDAR
