BEGIN:VCALENDAR
VERSION:2.0
PRODID:-//gardenterrace.us//NONSGML kigkonsult.se iCalcreator 2.30.10//
CALSCALE:GREGORIAN
METHOD:PUBLISH
UID:92ac4552-3197-402e-9678-682ec3bc8527
X-WR-CALDESC:
X-WR-RELCALID:ac4c73b21238fedcbdb0d315225aea8a
X-WR-TIMEZONE:America/Los_Angeles
BEGIN:VTIMEZONE
TZID:America/Los_Angeles
BEGIN:STANDARD
TZNAME:PST
DTSTART:20251102T020000
TZOFFSETFROM:-0700
TZOFFSETTO:-0800
RDATE:20261101T020000
RDATE:20271107T020000
END:STANDARD
BEGIN:DAYLIGHT
TZNAME:PDT
DTSTART:20260308T020000
TZOFFSETFROM:-0800
TZOFFSETTO:-0700
RDATE:20270314T020000
RDATE:20280312T020000
END:DAYLIGHT
END:VTIMEZONE
BEGIN:VEVENT
UID:d0d3c85d-d594-462e-99c1-cc8eebac6f2d
DTSTAMP:20260423T165134Z
DESCRIPTION:
DTSTART;TZID=America/Los_Angeles:20260921T100000
DTEND;TZID=America/Los_Angeles:20260921T110000
LOCATION:500 N Emerson Ave\, Wenatchee\, WA 98801 US
SUMMARY:BINGO
END:VEVENT
END:VCALENDAR
