BEGIN:VCALENDAR
VERSION:2.0
PRODID:-//gardenterrace.us//NONSGML kigkonsult.se iCalcreator 2.30.10//
CALSCALE:GREGORIAN
METHOD:PUBLISH
UID:fc8b25a0-3512-4ff1-aac2-dc5b9517279b
X-WR-CALDESC:
X-WR-RELCALID:d68f6aa3d39b21756ed56592d801d8ad
X-WR-TIMEZONE:America/Los_Angeles
BEGIN:VTIMEZONE
TZID:America/Los_Angeles
BEGIN:STANDARD
TZNAME:PST
DTSTART:20251102T020000
TZOFFSETFROM:-0700
TZOFFSETTO:-0800
RDATE:20261101T020000
RDATE:20271107T020000
END:STANDARD
BEGIN:DAYLIGHT
TZNAME:PDT
DTSTART:20260308T020000
TZOFFSETFROM:-0800
TZOFFSETTO:-0700
RDATE:20270314T020000
RDATE:20280312T020000
END:DAYLIGHT
END:VTIMEZONE
BEGIN:VEVENT
UID:e46e7d8c-ca81-492b-8953-a2e56f4edaac
DTSTAMP:20260423T165404Z
DESCRIPTION:
DTSTART;TZID=America/Los_Angeles:20260911T080000
DTEND;TZID=America/Los_Angeles:20260911T110000
LOCATION:500 N Emerson Ave\, Wenatchee\, AL 98801 US
SUMMARY:Bake Sale
END:VEVENT
END:VCALENDAR
