BEGIN:VCALENDAR
VERSION:2.0
PRODID:-//gardenterrace.us//NONSGML kigkonsult.se iCalcreator 2.30.10//
CALSCALE:GREGORIAN
METHOD:PUBLISH
UID:da5d1443-f79a-400e-ade9-ecd222dbc365
X-WR-CALDESC:Join us in making hats for the Wenatchee Valley children in ne
 ed.
X-WR-RELCALID:dac0f935b41f45e6f01ecc5490a73679
X-WR-TIMEZONE:America/Los_Angeles
BEGIN:VTIMEZONE
TZID:America/Los_Angeles
BEGIN:STANDARD
TZNAME:PST
DTSTART:20251102T020000
TZOFFSETFROM:-0700
TZOFFSETTO:-0800
RDATE:20261101T020000
RDATE:20271107T020000
END:STANDARD
BEGIN:DAYLIGHT
TZNAME:PDT
DTSTART:20260308T020000
TZOFFSETFROM:-0800
TZOFFSETTO:-0700
RDATE:20270314T020000
END:DAYLIGHT
END:VTIMEZONE
BEGIN:VEVENT
UID:95583e97-fd8b-459a-b395-19a7cb4b46ae
DTSTAMP:20260423T152341Z
DESCRIPTION:Join us in making hats for the Wenatchee Valley children in nee
 d.
DTSTART;TZID=America/Los_Angeles:20260820T100000
DTEND;TZID=America/Los_Angeles:20260820T110000
LOCATION:500 N Emerson Ave\, Wenatchee\, AL 98801 US
SUMMARY:Hats for Kids - Knitting Group
END:VEVENT
END:VCALENDAR
