BEGIN:VCALENDAR
VERSION:2.0
PRODID:-//gardenterrace.us//NONSGML kigkonsult.se iCalcreator 2.30.10//
CALSCALE:GREGORIAN
METHOD:PUBLISH
UID:2d87d0bc-a736-4ac0-8a9f-e24cfc94448b
X-WR-CALDESC:
X-WR-RELCALID:0a8af7b0b709769b9c491f50f6166eab
X-WR-TIMEZONE:America/Los_Angeles
BEGIN:VTIMEZONE
TZID:America/Los_Angeles
BEGIN:STANDARD
TZNAME:PST
DTSTART:20251102T020000
TZOFFSETFROM:-0700
TZOFFSETTO:-0800
RDATE:20261101T020000
RDATE:20271107T020000
END:STANDARD
BEGIN:DAYLIGHT
TZNAME:PDT
DTSTART:20260308T020000
TZOFFSETFROM:-0800
TZOFFSETTO:-0700
RDATE:20270314T020000
END:DAYLIGHT
END:VTIMEZONE
BEGIN:VEVENT
UID:884e6863-67e7-49ec-b3b3-bbd1fa747362
DTSTAMP:20260423T152704Z
DESCRIPTION:
DTSTART;TZID=America/Los_Angeles:20260805T183000
DTEND;TZID=America/Los_Angeles:20260805T200000
LOCATION:500 N Emerson Ave\, Wenatchee\, AL 98801 US
SUMMARY:Resident Council Meeting
END:VEVENT
END:VCALENDAR
