BEGIN:VCALENDAR
VERSION:2.0
PRODID:-//gardenterrace.us//NONSGML kigkonsult.se iCalcreator 2.30.10//
CALSCALE:GREGORIAN
METHOD:PUBLISH
UID:0213eedb-f8da-47ae-bbaa-9486cc5851f2
X-WR-CALDESC:
X-WR-RELCALID:b32e5eac26fcab571b5f6b44f4adc5aa
X-WR-TIMEZONE:America/Los_Angeles
BEGIN:VTIMEZONE
TZID:America/Los_Angeles
BEGIN:STANDARD
TZNAME:PST
DTSTART:20251102T020000
TZOFFSETFROM:-0700
TZOFFSETTO:-0800
RDATE:20261101T020000
END:STANDARD
BEGIN:DAYLIGHT
TZNAME:PDT
DTSTART:20260308T020000
TZOFFSETFROM:-0800
TZOFFSETTO:-0700
RDATE:20270314T020000
END:DAYLIGHT
END:VTIMEZONE
BEGIN:VEVENT
UID:a4b5836f-a03c-4834-ac07-f7a80d18c252
DTSTAMP:20260423T102235Z
DESCRIPTION:
DTSTART;TZID=America/Los_Angeles:20260501T110000
DTEND;TZID=America/Los_Angeles:20260501T120000
LOCATION:500 N Emerson Ave\, Wenatchee\, AL 98801 US
SUMMARY:Educational Seminars hosted by Tina DeYoung
END:VEVENT
END:VCALENDAR
