BEGIN:VCALENDAR
VERSION:2.0
PRODID:-//gardenterrace.us//NONSGML kigkonsult.se iCalcreator 2.30.10//
CALSCALE:GREGORIAN
METHOD:PUBLISH
UID:d892f4e8-542f-40c7-ad01-6fe29abb2226
X-WR-CALDESC:
X-WR-RELCALID:9ab24d31f208f9267f3ecc9cbad89739
X-WR-TIMEZONE:America/Los_Angeles
BEGIN:VTIMEZONE
TZID:America/Los_Angeles
BEGIN:STANDARD
TZNAME:PST
DTSTART:20251102T020000
TZOFFSETFROM:-0700
TZOFFSETTO:-0800
RDATE:20261101T020000
END:STANDARD
BEGIN:DAYLIGHT
TZNAME:PDT
DTSTART:20260308T020000
TZOFFSETFROM:-0800
TZOFFSETTO:-0700
RDATE:20270314T020000
END:DAYLIGHT
END:VTIMEZONE
BEGIN:VEVENT
UID:e56fec58-0bf2-40a6-b06d-91e7f5c6b6a6
DTSTAMP:20260423T084443Z
DESCRIPTION:
DTSTART;TZID=America/Los_Angeles:20260407T130000
DTEND;TZID=America/Los_Angeles:20260407T140000
LOCATION:500 N Emerson Ave\, Wenatchee\, AL 98801 US
SUMMARY:Sit & Chat with Tina
END:VEVENT
END:VCALENDAR
