BEGIN:VCALENDAR
VERSION:2.0
PRODID:-//gardenterrace.us//NONSGML kigkonsult.se iCalcreator 2.30.10//
CALSCALE:GREGORIAN
METHOD:PUBLISH
UID:83d75354-f524-4387-8af1-f221e682a271
X-WR-CALDESC:
X-WR-RELCALID:09a28762db95ab4b7bfd217e1f5ba867
X-WR-TIMEZONE:America/Los_Angeles
BEGIN:VTIMEZONE
TZID:America/Los_Angeles
BEGIN:STANDARD
TZNAME:PST
DTSTART:20251102T020000
TZOFFSETFROM:-0700
TZOFFSETTO:-0800
RDATE:20261101T020000
END:STANDARD
BEGIN:DAYLIGHT
TZNAME:PDT
DTSTART:20260308T020000
TZOFFSETFROM:-0800
TZOFFSETTO:-0700
RDATE:20270314T020000
END:DAYLIGHT
END:VTIMEZONE
BEGIN:VEVENT
UID:d955eeb7-d87b-467d-8088-78dd56fd6347
DTSTAMP:20260423T104106Z
DESCRIPTION:
DTSTART;TZID=America/Los_Angeles:20260329T160000
DTEND;TZID=America/Los_Angeles:20260329T170000
LOCATION:500 N Emerson Ave\, Wenatchee\, WA 98801 US
SUMMARY:Vespers Service - Living Room
END:VEVENT
END:VCALENDAR
