BEGIN:VCALENDAR
VERSION:2.0
PRODID:-//gardenterrace.us//NONSGML kigkonsult.se iCalcreator 2.30.10//
CALSCALE:GREGORIAN
METHOD:PUBLISH
UID:e6969726-94fa-4ac8-9e19-d9c5969d4e7b
X-WR-CALDESC:
X-WR-RELCALID:a0d7a9f48840cd0535074f61b105ba60
X-WR-TIMEZONE:America/Los_Angeles
BEGIN:VTIMEZONE
TZID:America/Los_Angeles
BEGIN:STANDARD
TZNAME:PST
DTSTART:20251102T020000
TZOFFSETFROM:-0700
TZOFFSETTO:-0800
RDATE:20261101T020000
END:STANDARD
BEGIN:DAYLIGHT
TZNAME:PDT
DTSTART:20260308T020000
TZOFFSETFROM:-0800
TZOFFSETTO:-0700
RDATE:20270314T020000
END:DAYLIGHT
END:VTIMEZONE
BEGIN:VEVENT
UID:484ff244-aea8-4cba-b669-cc69690419ea
DTSTAMP:20260423T102207Z
DESCRIPTION:
DTSTART;TZID=America/Los_Angeles:20260327T110000
DTEND;TZID=America/Los_Angeles:20260327T120000
LOCATION:500 N Emerson Ave\, Wenatchee\, WA 98801 US
SUMMARY:Blank Slate Game
END:VEVENT
END:VCALENDAR
