BEGIN:VCALENDAR
VERSION:2.0
PRODID:-//gardenterrace.us//NONSGML kigkonsult.se iCalcreator 2.30.10//
CALSCALE:GREGORIAN
METHOD:PUBLISH
UID:4ffbcb5e-d862-417f-9263-b2ec41aa0ce0
X-WR-CALDESC:
X-WR-RELCALID:8db0622f7eeaca34b750250b94ac8c0b
X-WR-TIMEZONE:America/Los_Angeles
BEGIN:VTIMEZONE
TZID:America/Los_Angeles
BEGIN:STANDARD
TZNAME:PST
DTSTART:20251102T020000
TZOFFSETFROM:-0700
TZOFFSETTO:-0800
RDATE:20261101T020000
END:STANDARD
BEGIN:DAYLIGHT
TZNAME:PDT
DTSTART:20250309T020000
TZOFFSETFROM:-0800
TZOFFSETTO:-0700
RDATE:20260308T020000
RDATE:20270314T020000
END:DAYLIGHT
END:VTIMEZONE
BEGIN:VEVENT
UID:c41563e2-6a8e-4bbc-859a-cdd188045140
DTSTAMP:20260423T134145Z
DESCRIPTION:
DTSTART;TZID=America/Los_Angeles:20260130T110000
DTEND;TZID=America/Los_Angeles:20260130T120000
LOCATION:500 N Emerson Ave\, Wenatchee\, AL 98801 US
SUMMARY:Educational Seminars hosted by Tina DeYoung
END:VEVENT
END:VCALENDAR
