BEGIN:VCALENDAR
VERSION:2.0
PRODID:-//gardenterrace.us//NONSGML kigkonsult.se iCalcreator 2.30.10//
CALSCALE:GREGORIAN
METHOD:PUBLISH
UID:05f712ed-30b6-4388-bcf5-874e0ef14c8d
X-WR-CALDESC:
X-WR-RELCALID:61b1608d9799b7e262c833bbee81b1c4
X-WR-TIMEZONE:America/Los_Angeles
BEGIN:VTIMEZONE
TZID:America/Los_Angeles
BEGIN:STANDARD
TZNAME:PST
DTSTART:20251102T020000
TZOFFSETFROM:-0700
TZOFFSETTO:-0800
RDATE:20261101T020000
END:STANDARD
BEGIN:DAYLIGHT
TZNAME:PDT
DTSTART:20250309T020000
TZOFFSETFROM:-0800
TZOFFSETTO:-0700
RDATE:20260308T020000
RDATE:20270314T020000
END:DAYLIGHT
END:VTIMEZONE
BEGIN:VEVENT
UID:39d4ab1c-33d5-487d-ad6d-4a3891340dd1
DTSTAMP:20260423T133234Z
DESCRIPTION:
DTSTART;TZID=America/Los_Angeles:20260109T110000
DTEND;TZID=America/Los_Angeles:20260109T120000
LOCATION:500 N Emerson Ave\, Wenatchee\, AL 98801 US
SUMMARY:Educational Seminars hosted by Tina DeYoung
END:VEVENT
END:VCALENDAR
