BEGIN:VCALENDAR
VERSION:2.0
PRODID:-//gardenterrace.us//NONSGML kigkonsult.se iCalcreator 2.30.10//
CALSCALE:GREGORIAN
METHOD:PUBLISH
UID:34c9e9f4-bc6e-4c74-af16-841db726b102
X-WR-CALDESC:
X-WR-RELCALID:97dee7d0e2e0795109a0fd90c26e575c
X-WR-TIMEZONE:America/Los_Angeles
BEGIN:VTIMEZONE
TZID:America/Los_Angeles
BEGIN:STANDARD
TZNAME:PST
DTSTART:20251102T020000
TZOFFSETFROM:-0700
TZOFFSETTO:-0800
RDATE:20261101T020000
END:STANDARD
BEGIN:DAYLIGHT
TZNAME:PDT
DTSTART:20250309T020000
TZOFFSETFROM:-0800
TZOFFSETTO:-0700
RDATE:20260308T020000
RDATE:20270314T020000
END:DAYLIGHT
END:VTIMEZONE
BEGIN:VEVENT
UID:56fa2adc-bea0-4b5f-9adc-609f42ff194b
DTSTAMP:20260423T152056Z
DESCRIPTION:
DTSTART;TZID=America/Los_Angeles:20251222T100000
DTEND;TZID=America/Los_Angeles:20251222T110000
LOCATION:500 N Emerson Ave\, Wenatchee\, WA 98801 US
SUMMARY:BINGO
END:VEVENT
END:VCALENDAR
