BEGIN:VCALENDAR
VERSION:2.0
PRODID:-//gardenterrace.us//NONSGML kigkonsult.se iCalcreator 2.30.10//
CALSCALE:GREGORIAN
METHOD:PUBLISH
UID:f5e19fa1-2ac5-4eae-bbd2-596bd5024b88
X-WR-CALDESC:
X-WR-RELCALID:cfdea21c76388622f8be3cd00b928209
X-WR-TIMEZONE:America/Los_Angeles
BEGIN:VTIMEZONE
TZID:America/Los_Angeles
BEGIN:STANDARD
TZNAME:PST
DTSTART:20241103T020000
TZOFFSETFROM:-0700
TZOFFSETTO:-0800
RDATE:20251102T020000
RDATE:20261101T020000
END:STANDARD
BEGIN:DAYLIGHT
TZNAME:PDT
DTSTART:20250309T020000
TZOFFSETFROM:-0800
TZOFFSETTO:-0700
RDATE:20260308T020000
RDATE:20270314T020000
END:DAYLIGHT
END:VTIMEZONE
BEGIN:VEVENT
UID:71681a72-e8eb-45c2-a929-1d8fd55ff1d2
DTSTAMP:20260425T122038Z
DESCRIPTION:
DTSTART;TZID=America/Los_Angeles:20251031T110000
DTEND;TZID=America/Los_Angeles:20251031T120000
LOCATION:500 N Emerson Ave\, Wenatchee\, WA 98801 US
SUMMARY:Blank Slate Game
END:VEVENT
END:VCALENDAR
