BEGIN:VCALENDAR
VERSION:2.0
PRODID:-//gardenterrace.us//NONSGML kigkonsult.se iCalcreator 2.30.10//
CALSCALE:GREGORIAN
METHOD:PUBLISH
UID:140ffc87-968b-4b66-bfa2-43e4f5b5338b
X-WR-CALDESC:
X-WR-RELCALID:8104231f21ce7e42390cd11af9b7308a
X-WR-TIMEZONE:America/Los_Angeles
BEGIN:VTIMEZONE
TZID:America/Los_Angeles
BEGIN:STANDARD
TZNAME:PST
DTSTART:20241103T020000
TZOFFSETFROM:-0700
TZOFFSETTO:-0800
RDATE:20251102T020000
RDATE:20261101T020000
END:STANDARD
BEGIN:DAYLIGHT
TZNAME:PDT
DTSTART:20250309T020000
TZOFFSETFROM:-0800
TZOFFSETTO:-0700
RDATE:20260308T020000
RDATE:20270314T020000
END:DAYLIGHT
END:VTIMEZONE
BEGIN:VEVENT
UID:a1ddc615-1879-43ae-9697-69459e32832b
DTSTAMP:20260425T122344Z
DESCRIPTION:
DTSTART;TZID=America/Los_Angeles:20251001T183000
DTEND;TZID=America/Los_Angeles:20251001T200000
LOCATION:500 N Emerson Ave\, Wenatchee\, AL 98801 US
SUMMARY:Resident Council Meeting
END:VEVENT
END:VCALENDAR
