BEGIN:VCALENDAR
VERSION:2.0
PRODID:-//gardenterrace.us//NONSGML kigkonsult.se iCalcreator 2.30.10//
CALSCALE:GREGORIAN
METHOD:PUBLISH
UID:71d271d9-5dc4-4f2c-b611-6d72d428deff
X-WR-CALDESC:
X-WR-RELCALID:4672beae71e5841a56ccb350d93e880e
X-WR-TIMEZONE:America/Los_Angeles
BEGIN:VTIMEZONE
TZID:America/Los_Angeles
BEGIN:STANDARD
TZNAME:PST
DTSTART:20241103T020000
TZOFFSETFROM:-0700
TZOFFSETTO:-0800
RDATE:20251102T020000
END:STANDARD
BEGIN:DAYLIGHT
TZNAME:PDT
DTSTART:20250309T020000
TZOFFSETFROM:-0800
TZOFFSETTO:-0700
RDATE:20260308T020000
END:DAYLIGHT
END:VTIMEZONE
BEGIN:VEVENT
UID:a1b9adc4-7a48-4e32-9a67-1fed2dbec899
DTSTAMP:20260425T213147Z
DESCRIPTION:
DTSTART;TZID=America/Los_Angeles:20250425T110000
DTEND;TZID=America/Los_Angeles:20250425T120000
LOCATION:500 N Emerson Ave\, Wenatchee\, AL 98801 US
SUMMARY:Educational Seminars hosted by Tina DeYoung
END:VEVENT
END:VCALENDAR
