BEGIN:VCALENDAR
VERSION:2.0
PRODID:-//gardenterrace.us//NONSGML kigkonsult.se iCalcreator 2.30.10//
CALSCALE:GREGORIAN
METHOD:PUBLISH
UID:26d5a438-2d43-4356-b669-b0576357d9a2
X-WR-CALDESC:
X-WR-RELCALID:8776c1bc95bb846e1c2eebe16fa0d889
X-WR-TIMEZONE:America/Los_Angeles
BEGIN:VTIMEZONE
TZID:America/Los_Angeles
BEGIN:STANDARD
TZNAME:PST
DTSTART:20241103T020000
TZOFFSETFROM:-0700
TZOFFSETTO:-0800
RDATE:20251102T020000
END:STANDARD
BEGIN:DAYLIGHT
TZNAME:PDT
DTSTART:20250309T020000
TZOFFSETFROM:-0800
TZOFFSETTO:-0700
RDATE:20260308T020000
END:DAYLIGHT
END:VTIMEZONE
BEGIN:VEVENT
UID:559ce294-8370-48a4-897a-d85ed79e31d8
DTSTAMP:20260425T213324Z
DESCRIPTION:
DTSTART;TZID=America/Los_Angeles:20250420T160000
DTEND;TZID=America/Los_Angeles:20250420T170000
LOCATION:500 N Emerson Ave\, Wenatchee\, WA 98801 US
SUMMARY:Vespers Service - Living Room
END:VEVENT
END:VCALENDAR
