BEGIN:VCALENDAR
VERSION:2.0
PRODID:-//gardenterrace.us//NONSGML kigkonsult.se iCalcreator 2.30.10//
CALSCALE:GREGORIAN
METHOD:PUBLISH
UID:2c8b1b6d-4ff5-49d4-bbb0-e79440a7be42
X-WR-CALDESC:Join us in making hats for the Wenatchee Valley children in ne
 ed.
X-WR-RELCALID:0315a73de90b99cb06f7d0ebc420d543
X-WR-TIMEZONE:America/Los_Angeles
BEGIN:VTIMEZONE
TZID:America/Los_Angeles
BEGIN:STANDARD
TZNAME:PST
DTSTART:20241103T020000
TZOFFSETFROM:-0700
TZOFFSETTO:-0800
RDATE:20251102T020000
END:STANDARD
BEGIN:DAYLIGHT
TZNAME:PDT
DTSTART:20250309T020000
TZOFFSETFROM:-0800
TZOFFSETTO:-0700
RDATE:20260308T020000
END:DAYLIGHT
END:VTIMEZONE
BEGIN:VEVENT
UID:7094ba7e-4c6b-4699-9887-527fb7498f90
DTSTAMP:20260425T225758Z
DESCRIPTION:Join us in making hats for the Wenatchee Valley children in nee
 d.
DTSTART;TZID=America/Los_Angeles:20250320T100000
DTEND;TZID=America/Los_Angeles:20250320T110000
LOCATION:500 N Emerson Ave\, Wenatchee\, AL 98801 US
SUMMARY:Hats for Kids - Knitting Group
END:VEVENT
END:VCALENDAR
