BEGIN:VCALENDAR
VERSION:2.0
PRODID:-//gardenterrace.us//NONSGML kigkonsult.se iCalcreator 2.30.10//
CALSCALE:GREGORIAN
METHOD:PUBLISH
UID:f2644537-e7a3-4569-8a37-6c05ff50feeb
X-WR-CALDESC:
X-WR-RELCALID:32572e0a4c48de2570ca0614913a16ee
X-WR-TIMEZONE:America/Los_Angeles
BEGIN:VTIMEZONE
TZID:America/Los_Angeles
BEGIN:STANDARD
TZNAME:PST
DTSTART:20241103T020000
TZOFFSETFROM:-0700
TZOFFSETTO:-0800
RDATE:20251102T020000
END:STANDARD
BEGIN:DAYLIGHT
TZNAME:PDT
DTSTART:20240310T020000
TZOFFSETFROM:-0800
TZOFFSETTO:-0700
RDATE:20250309T020000
RDATE:20260308T020000
END:DAYLIGHT
END:VTIMEZONE
BEGIN:VEVENT
UID:654b2f19-537f-4b6a-9188-09d90f3be0f7
DTSTAMP:20260425T225623Z
DESCRIPTION:
DTSTART;TZID=America/Los_Angeles:20250310T100000
DTEND;TZID=America/Los_Angeles:20250310T110000
LOCATION:500 N Emerson Ave\, Wenatchee\, WA 98801 US
SUMMARY:BINGO
END:VEVENT
END:VCALENDAR
