BEGIN:VCALENDAR
VERSION:2.0
PRODID:-//gardenterrace.us//NONSGML kigkonsult.se iCalcreator 2.30.10//
CALSCALE:GREGORIAN
METHOD:PUBLISH
UID:bf4ef4ca-19bb-4676-ab07-e2c6f6a4ee2a
X-WR-CALDESC:
X-WR-RELCALID:33c5a1182a7b82d0f1d11ea4a1d0b553
X-WR-TIMEZONE:America/Los_Angeles
BEGIN:VTIMEZONE
TZID:America/Los_Angeles
BEGIN:STANDARD
TZNAME:PST
DTSTART:20241103T020000
TZOFFSETFROM:-0700
TZOFFSETTO:-0800
RDATE:20251102T020000
END:STANDARD
BEGIN:DAYLIGHT
TZNAME:PDT
DTSTART:20240310T020000
TZOFFSETFROM:-0800
TZOFFSETTO:-0700
RDATE:20250309T020000
RDATE:20260308T020000
END:DAYLIGHT
END:VTIMEZONE
BEGIN:VEVENT
UID:0e997627-6294-4235-a633-31d01fa33943
DTSTAMP:20260426T004216Z
DESCRIPTION:
DTSTART;TZID=America/Los_Angeles:20250214T080000
DTEND;TZID=America/Los_Angeles:20250214T110000
LOCATION:500 N Emerson Ave\, Wenatchee\, AL 98801 US
SUMMARY:Bake Sale
END:VEVENT
END:VCALENDAR
