BEGIN:VCALENDAR
VERSION:2.0
PRODID:-//gardenterrace.us//NONSGML kigkonsult.se iCalcreator 2.30.10//
CALSCALE:GREGORIAN
METHOD:PUBLISH
UID:d4c1195c-9e21-4137-9b69-982a245685aa
X-WR-CALDESC:
X-WR-RELCALID:c28c95586c75e7540eddfeb99313575e
X-WR-TIMEZONE:America/Los_Angeles
BEGIN:VTIMEZONE
TZID:America/Los_Angeles
BEGIN:STANDARD
TZNAME:PST
DTSTART:20241103T020000
TZOFFSETFROM:-0700
TZOFFSETTO:-0800
RDATE:20251102T020000
END:STANDARD
BEGIN:DAYLIGHT
TZNAME:PDT
DTSTART:20240310T020000
TZOFFSETFROM:-0800
TZOFFSETTO:-0700
RDATE:20250309T020000
RDATE:20260308T020000
END:DAYLIGHT
END:VTIMEZONE
BEGIN:VEVENT
UID:94dcb663-1586-4515-8b8d-c359a9cce19d
DTSTAMP:20260426T021708Z
DESCRIPTION:
DTSTART;TZID=America/Los_Angeles:20250119T160000
DTEND;TZID=America/Los_Angeles:20250119T170000
LOCATION:500 N Emerson Ave\, Wenatchee\, WA 98801 US
SUMMARY:Vespers Service - Living Room
END:VEVENT
END:VCALENDAR
