BEGIN:VCALENDAR
VERSION:2.0
PRODID:-//gardenterrace.us//NONSGML kigkonsult.se iCalcreator 2.30.10//
CALSCALE:GREGORIAN
METHOD:PUBLISH
UID:b998ae43-fde6-4b54-b017-bf1ed1d9a3d8
X-WR-CALDESC:Join us in making hats for the Wenatchee Valley children in ne
 ed.
X-WR-RELCALID:c0c2a18c27ed101a05d0fe9c1c8ac1dc
X-WR-TIMEZONE:America/Los_Angeles
BEGIN:VTIMEZONE
TZID:America/Los_Angeles
BEGIN:STANDARD
TZNAME:PST
DTSTART:20241103T020000
TZOFFSETFROM:-0700
TZOFFSETTO:-0800
RDATE:20251102T020000
END:STANDARD
BEGIN:DAYLIGHT
TZNAME:PDT
DTSTART:20240310T020000
TZOFFSETFROM:-0800
TZOFFSETTO:-0700
RDATE:20250309T020000
RDATE:20260308T020000
END:DAYLIGHT
END:VTIMEZONE
BEGIN:VEVENT
UID:b8dff601-4c50-4923-bce0-894f4d47af36
DTSTAMP:20260426T021110Z
DESCRIPTION:Join us in making hats for the Wenatchee Valley children in nee
 d.
DTSTART;TZID=America/Los_Angeles:20250116T100000
DTEND;TZID=America/Los_Angeles:20250116T110000
LOCATION:500 N Emerson Ave\, Wenatchee\, AL 98801 US
SUMMARY:Hats for Kids - Knitting Group
END:VEVENT
END:VCALENDAR
