BEGIN:VCALENDAR
VERSION:2.0
PRODID:-//gardenterrace.us//NONSGML kigkonsult.se iCalcreator 2.30.10//
CALSCALE:GREGORIAN
METHOD:PUBLISH
UID:fd82dc03-1dcb-4e37-a851-254dd602dbac
X-WR-CALDESC:
X-WR-RELCALID:645504e6c85aa392169f745ea8484b6f
X-WR-TIMEZONE:America/Los_Angeles
BEGIN:VTIMEZONE
TZID:America/Los_Angeles
BEGIN:STANDARD
TZNAME:PST
DTSTART:20241103T020000
TZOFFSETFROM:-0700
TZOFFSETTO:-0800
RDATE:20251102T020000
END:STANDARD
BEGIN:DAYLIGHT
TZNAME:PDT
DTSTART:20240310T020000
TZOFFSETFROM:-0800
TZOFFSETTO:-0700
RDATE:20250309T020000
RDATE:20260308T020000
END:DAYLIGHT
END:VTIMEZONE
BEGIN:VEVENT
UID:17455693-c529-417e-9a84-72c50cf82dc5
DTSTAMP:20260426T020948Z
DESCRIPTION:
DTSTART;TZID=America/Los_Angeles:20250107T130000
DTEND;TZID=America/Los_Angeles:20250107T140000
LOCATION:500 N Emerson Ave\, Wenatchee\, AL 98801 US
SUMMARY:Sit & Chat with Tina
END:VEVENT
END:VCALENDAR
