BEGIN:VCALENDAR
VERSION:2.0
PRODID:-//gardenterrace.us//NONSGML kigkonsult.se iCalcreator 2.30.10//
CALSCALE:GREGORIAN
METHOD:PUBLISH
UID:19a60084-fa00-4ea3-b1ed-673774e11005
X-WR-CALDESC:Join us in making hats for the Wenatchee Valley children in ne
 ed.
X-WR-RELCALID:da1cdf339d992e5f7904cf08066f5c34
X-WR-TIMEZONE:America/Los_Angeles
BEGIN:VTIMEZONE
TZID:America/Los_Angeles
BEGIN:STANDARD
TZNAME:PST
DTSTART:20241103T020000
TZOFFSETFROM:-0700
TZOFFSETTO:-0800
RDATE:20251102T020000
END:STANDARD
BEGIN:DAYLIGHT
TZNAME:PDT
DTSTART:20240310T020000
TZOFFSETFROM:-0800
TZOFFSETTO:-0700
RDATE:20250309T020000
RDATE:20260308T020000
END:DAYLIGHT
END:VTIMEZONE
BEGIN:VEVENT
UID:40756c30-8f21-4285-8343-15f03f81b440
DTSTAMP:20260426T035350Z
DESCRIPTION:Join us in making hats for the Wenatchee Valley children in nee
 d.
DTSTART;TZID=America/Los_Angeles:20241219T100000
DTEND;TZID=America/Los_Angeles:20241219T110000
LOCATION:500 N Emerson Ave\, Wenatchee\, AL 98801 US
SUMMARY:Hats for Kids - Knitting Group
END:VEVENT
END:VCALENDAR
