BEGIN:VCALENDAR
VERSION:2.0
PRODID:-//gardenterrace.us//NONSGML kigkonsult.se iCalcreator 2.30.10//
CALSCALE:GREGORIAN
METHOD:PUBLISH
UID:41d76a31-342b-466a-8aeb-1bc7b098977f
X-WR-CALDESC:
X-WR-RELCALID:662e219c68df2d05f6431f6cd88fcc7c
X-WR-TIMEZONE:America/Los_Angeles
BEGIN:VTIMEZONE
TZID:America/Los_Angeles
BEGIN:STANDARD
TZNAME:PST
DTSTART:20241103T020000
TZOFFSETFROM:-0700
TZOFFSETTO:-0800
RDATE:20251102T020000
END:STANDARD
BEGIN:DAYLIGHT
TZNAME:PDT
DTSTART:20240310T020000
TZOFFSETFROM:-0800
TZOFFSETTO:-0700
RDATE:20250309T020000
RDATE:20260308T020000
END:DAYLIGHT
END:VTIMEZONE
BEGIN:VEVENT
UID:5e95aa91-8e80-482d-8eae-7438cce7d92b
DTSTAMP:20260426T035121Z
DESCRIPTION:
DTSTART;TZID=America/Los_Angeles:20241202T100000
DTEND;TZID=America/Los_Angeles:20241202T110000
LOCATION:500 N Emerson Ave\, Wenatchee\, WA 98801 US
SUMMARY:BINGO
END:VEVENT
END:VCALENDAR
