BEGIN:VCALENDAR
VERSION:2.0
PRODID:-//gardenterrace.us//NONSGML kigkonsult.se iCalcreator 2.30.10//
CALSCALE:GREGORIAN
METHOD:PUBLISH
UID:49bce2b4-7852-4823-99b2-9042eb77526e
X-WR-CALDESC:
X-WR-RELCALID:bfdd35f677b1d6b1d06d3b20624c0a41
X-WR-TIMEZONE:America/Los_Angeles
BEGIN:VTIMEZONE
TZID:America/Los_Angeles
BEGIN:STANDARD
TZNAME:PST
DTSTART:20231105T020000
TZOFFSETFROM:-0700
TZOFFSETTO:-0800
RDATE:20241103T020000
RDATE:20251102T020000
END:STANDARD
BEGIN:DAYLIGHT
TZNAME:PDT
DTSTART:20240310T020000
TZOFFSETFROM:-0800
TZOFFSETTO:-0700
RDATE:20250309T020000
END:DAYLIGHT
END:VTIMEZONE
BEGIN:VEVENT
UID:080258dd-1ae6-4b52-ad20-615611568c42
DTSTAMP:20260425T104328Z
DESCRIPTION:
DTSTART;TZID=America/Los_Angeles:20240526T160000
DTEND;TZID=America/Los_Angeles:20240526T170000
LOCATION:500 N Emerson Ave\, Wenatchee\, WA 98801 US
SUMMARY:Vespers Service - Living Room
END:VEVENT
END:VCALENDAR
