BEGIN:VCALENDAR
VERSION:2.0
PRODID:-//gardenterrace.us//NONSGML kigkonsult.se iCalcreator 2.30.10//
CALSCALE:GREGORIAN
METHOD:PUBLISH
UID:ba858e84-0489-44b0-8b19-ab4d520823bc
X-WR-CALDESC:
X-WR-RELCALID:266b8e5290fb55390cc3a2c6774b245d
X-WR-TIMEZONE:America/Los_Angeles
BEGIN:VTIMEZONE
TZID:America/Los_Angeles
BEGIN:STANDARD
TZNAME:PST
DTSTART:20231105T020000
TZOFFSETFROM:-0700
TZOFFSETTO:-0800
RDATE:20241103T020000
RDATE:20251102T020000
END:STANDARD
BEGIN:DAYLIGHT
TZNAME:PDT
DTSTART:20240310T020000
TZOFFSETFROM:-0800
TZOFFSETTO:-0700
RDATE:20250309T020000
END:DAYLIGHT
END:VTIMEZONE
BEGIN:VEVENT
UID:1563de1e-49a3-4ae7-9654-dff7ef11fd4e
DTSTAMP:20260425T103204Z
DESCRIPTION:
DTSTART;TZID=America/Los_Angeles:20240517T110000
DTEND;TZID=America/Los_Angeles:20240517T120000
LOCATION:500 N Emerson Ave\, Wenatchee\, AL 98801 US
SUMMARY:Educational Seminars hosted by Tina DeYoung
END:VEVENT
END:VCALENDAR
