BEGIN:VCALENDAR
VERSION:2.0
PRODID:-//gardenterrace.us//NONSGML kigkonsult.se iCalcreator 2.30.10//
CALSCALE:GREGORIAN
METHOD:PUBLISH
UID:0c93f339-f6dc-4ebc-a2ca-47ebc54bd7f1
X-WR-CALDESC:
X-WR-RELCALID:f34fdb7820498a5c5cfe4d20fc595708
X-WR-TIMEZONE:America/Los_Angeles
BEGIN:VTIMEZONE
TZID:America/Los_Angeles
BEGIN:STANDARD
TZNAME:PST
DTSTART:20231105T020000
TZOFFSETFROM:-0700
TZOFFSETTO:-0800
RDATE:20241103T020000
END:STANDARD
BEGIN:DAYLIGHT
TZNAME:PDT
DTSTART:20240310T020000
TZOFFSETFROM:-0800
TZOFFSETTO:-0700
RDATE:20250309T020000
END:DAYLIGHT
END:VTIMEZONE
BEGIN:VEVENT
UID:f60133f8-1122-4aea-94b6-f7e36955630d
DTSTAMP:20260425T122953Z
DESCRIPTION:
DTSTART;TZID=America/Los_Angeles:20240426T110000
DTEND;TZID=America/Los_Angeles:20240426T120000
LOCATION:500 N Emerson Ave\, Wenatchee\, WA 98801 US
SUMMARY:Alyssa Chamberlin in the living room
END:VEVENT
END:VCALENDAR
