BEGIN:VCALENDAR
VERSION:2.0
PRODID:-//gardenterrace.us//NONSGML kigkonsult.se iCalcreator 2.30.10//
CALSCALE:GREGORIAN
METHOD:PUBLISH
UID:393b1b99-d4b2-4a33-93ff-1eed22ab4115
X-WR-CALDESC:
X-WR-RELCALID:963d5b8b5830f00498c9c05a01ce7e6b
X-WR-TIMEZONE:America/Los_Angeles
BEGIN:VTIMEZONE
TZID:America/Los_Angeles
BEGIN:STANDARD
TZNAME:PST
DTSTART:20231105T020000
TZOFFSETFROM:-0700
TZOFFSETTO:-0800
RDATE:20241103T020000
END:STANDARD
BEGIN:DAYLIGHT
TZNAME:PDT
DTSTART:20240310T020000
TZOFFSETFROM:-0800
TZOFFSETTO:-0700
RDATE:20250309T020000
END:DAYLIGHT
END:VTIMEZONE
BEGIN:VEVENT
UID:77c68343-d9e2-4016-bfaf-a43568158a97
DTSTAMP:20260425T122625Z
DESCRIPTION:
DTSTART;TZID=America/Los_Angeles:20240426T130000
DTEND;TZID=America/Los_Angeles:20240426T140000
LOCATION:500 N Emerson Ave\, Wenatchee\, WA 98801 US
SUMMARY:A Matter of Balance
END:VEVENT
END:VCALENDAR
