BEGIN:VCALENDAR
VERSION:2.0
PRODID:-//gardenterrace.us//NONSGML kigkonsult.se iCalcreator 2.30.10//
CALSCALE:GREGORIAN
METHOD:PUBLISH
UID:54a12984-162b-464a-8b18-f2794d54c690
X-WR-CALDESC:
X-WR-RELCALID:727774177fe99615c50fcaab8218e4af
X-WR-TIMEZONE:America/Los_Angeles
BEGIN:VTIMEZONE
TZID:America/Los_Angeles
BEGIN:STANDARD
TZNAME:PST
DTSTART:20231105T020000
TZOFFSETFROM:-0700
TZOFFSETTO:-0800
RDATE:20241103T020000
END:STANDARD
BEGIN:DAYLIGHT
TZNAME:PDT
DTSTART:20240310T020000
TZOFFSETFROM:-0800
TZOFFSETTO:-0700
RDATE:20250309T020000
END:DAYLIGHT
END:VTIMEZONE
BEGIN:VEVENT
UID:54d553f7-9fae-45d4-8235-4b94b7d37e22
DTSTAMP:20260425T120309Z
DESCRIPTION:
DTSTART;TZID=America/Los_Angeles:20240425T130000
DTEND;TZID=America/Los_Angeles:20240425T140000
LOCATION:500 N Emerson Ave\, Wenatchee\, WA 98801 US
SUMMARY:Scripture Discussion
END:VEVENT
END:VCALENDAR
