BEGIN:VCALENDAR
VERSION:2.0
PRODID:-//gardenterrace.us//NONSGML kigkonsult.se iCalcreator 2.30.10//
CALSCALE:GREGORIAN
METHOD:PUBLISH
UID:d4c7f12c-adcc-4e14-bd30-56da3f60cf63
X-WR-CALDESC:
X-WR-RELCALID:91e46fa943128ec9c48bb6461a5aa51d
X-WR-TIMEZONE:America/Los_Angeles
BEGIN:VTIMEZONE
TZID:America/Los_Angeles
BEGIN:STANDARD
TZNAME:PST
DTSTART:20231105T020000
TZOFFSETFROM:-0700
TZOFFSETTO:-0800
RDATE:20241103T020000
END:STANDARD
BEGIN:DAYLIGHT
TZNAME:PDT
DTSTART:20240310T020000
TZOFFSETFROM:-0800
TZOFFSETTO:-0700
RDATE:20250309T020000
END:DAYLIGHT
END:VTIMEZONE
BEGIN:VEVENT
UID:65fe75cd-0200-495c-bc1e-a3defb137685
DTSTAMP:20260425T120540Z
DESCRIPTION:
DTSTART;TZID=America/Los_Angeles:20240425T183000
DTEND;TZID=America/Los_Angeles:20240425T203000
LOCATION:500 N Emerson Ave\, Wenatchee\, WA 98801 US
SUMMARY:Movie Night
END:VEVENT
END:VCALENDAR
