BEGIN:VCALENDAR
VERSION:2.0
PRODID:-//gardenterrace.us//NONSGML kigkonsult.se iCalcreator 2.30.10//
CALSCALE:GREGORIAN
METHOD:PUBLISH
UID:027a58d8-4f63-4f77-b216-8967ba7a4b36
X-WR-CALDESC:
X-WR-RELCALID:28a65b17100a0ed2b661d101755b1bde
X-WR-TIMEZONE:America/Los_Angeles
BEGIN:VTIMEZONE
TZID:America/Los_Angeles
BEGIN:STANDARD
TZNAME:PST
DTSTART:20231105T020000
TZOFFSETFROM:-0700
TZOFFSETTO:-0800
RDATE:20241103T020000
END:STANDARD
BEGIN:DAYLIGHT
TZNAME:PDT
DTSTART:20240310T020000
TZOFFSETFROM:-0800
TZOFFSETTO:-0700
RDATE:20250309T020000
END:DAYLIGHT
END:VTIMEZONE
BEGIN:VEVENT
UID:581f1b37-fda9-4b1a-b93f-43c548964f8f
DTSTAMP:20260425T120510Z
DESCRIPTION:
DTSTART;TZID=America/Los_Angeles:20240425T110000
DTEND;TZID=America/Los_Angeles:20240425T120000
LOCATION:500 N Emerson Ave\, Wenatchee\, WA 98801 US
SUMMARY:Exercise Class in Living Room
END:VEVENT
END:VCALENDAR
