BEGIN:VCALENDAR
VERSION:2.0
PRODID:-//gardenterrace.us//NONSGML kigkonsult.se iCalcreator 2.30.10//
CALSCALE:GREGORIAN
METHOD:PUBLISH
UID:d8b0abbb-0108-4424-8911-d7291011fedb
X-WR-CALDESC:
X-WR-RELCALID:fd0d12b38f2828e5055afe4dc2017329
X-WR-TIMEZONE:America/Los_Angeles
BEGIN:VTIMEZONE
TZID:America/Los_Angeles
BEGIN:STANDARD
TZNAME:PST
DTSTART:20231105T020000
TZOFFSETFROM:-0700
TZOFFSETTO:-0800
RDATE:20241103T020000
END:STANDARD
BEGIN:DAYLIGHT
TZNAME:PDT
DTSTART:20240310T020000
TZOFFSETFROM:-0800
TZOFFSETTO:-0700
RDATE:20250309T020000
END:DAYLIGHT
END:VTIMEZONE
BEGIN:VEVENT
UID:8074ef22-4a84-46f4-8f29-f1b2cff54990
DTSTAMP:20260425T121231Z
DESCRIPTION:
DTSTART;TZID=America/Los_Angeles:20240424T130000
DTEND;TZID=America/Los_Angeles:20240424T140000
LOCATION:500 N Emerson Ave\, Wenatchee\, WA 98801 US
SUMMARY:Painting Class in living room
END:VEVENT
END:VCALENDAR
