BEGIN:VCALENDAR
VERSION:2.0
PRODID:-//gardenterrace.us//NONSGML kigkonsult.se iCalcreator 2.30.10//
CALSCALE:GREGORIAN
METHOD:PUBLISH
UID:26847702-4d3b-4899-a295-e1cdccb9f518
X-WR-CALDESC:
X-WR-RELCALID:4f2ca354e8c871ee28db500c599c7451
X-WR-TIMEZONE:America/Los_Angeles
BEGIN:VTIMEZONE
TZID:America/Los_Angeles
BEGIN:STANDARD
TZNAME:PST
DTSTART:20231105T020000
TZOFFSETFROM:-0700
TZOFFSETTO:-0800
RDATE:20241103T020000
END:STANDARD
BEGIN:DAYLIGHT
TZNAME:PDT
DTSTART:20240310T020000
TZOFFSETFROM:-0800
TZOFFSETTO:-0700
RDATE:20250309T020000
END:DAYLIGHT
END:VTIMEZONE
BEGIN:VEVENT
UID:2c114bd3-9e91-4489-b220-bdb34c1c57b8
DTSTAMP:20260425T120426Z
DESCRIPTION:
DTSTART;TZID=America/Los_Angeles:20240422T130000
DTEND;TZID=America/Los_Angeles:20240422T140000
LOCATION:500 N Emerson Ave\, Wenatchee\, WA 98801 US
SUMMARY:Sign Language Class
END:VEVENT
END:VCALENDAR
