BEGIN:VCALENDAR
VERSION:2.0
PRODID:-//gardenterrace.us//NONSGML kigkonsult.se iCalcreator 2.30.10//
CALSCALE:GREGORIAN
METHOD:PUBLISH
UID:2d986891-001b-4472-baf3-187d5e67b6cf
X-WR-CALDESC:
X-WR-RELCALID:08d3216be10199d8a5f87fdf3d3291c3
X-WR-TIMEZONE:America/Los_Angeles
BEGIN:VTIMEZONE
TZID:America/Los_Angeles
BEGIN:STANDARD
TZNAME:PST
DTSTART:20231105T020000
TZOFFSETFROM:-0700
TZOFFSETTO:-0800
RDATE:20241103T020000
END:STANDARD
BEGIN:DAYLIGHT
TZNAME:PDT
DTSTART:20240310T020000
TZOFFSETFROM:-0800
TZOFFSETTO:-0700
RDATE:20250309T020000
END:DAYLIGHT
END:VTIMEZONE
BEGIN:VEVENT
UID:32aac0fa-65b3-4533-9dab-e0bf7ec53ee6
DTSTAMP:20260425T120803Z
DESCRIPTION:
DTSTART;TZID=America/Los_Angeles:20240420T160000
DTEND;TZID=America/Los_Angeles:20240420T163000
LOCATION:500 N Emerson Ave\, Wenatchee\, WA 98801 US
SUMMARY:Pie and Ice Cream Social - Dining Room
END:VEVENT
END:VCALENDAR
