BEGIN:VCALENDAR
VERSION:2.0
PRODID:-//gardenterrace.us//NONSGML kigkonsult.se iCalcreator 2.30.10//
CALSCALE:GREGORIAN
METHOD:PUBLISH
UID:b0acd08d-7372-4880-adac-7bb52559eca1
X-WR-CALDESC:
X-WR-RELCALID:2ac4764161376193ff1b8e1d8c0c3353
X-WR-TIMEZONE:America/Los_Angeles
BEGIN:VTIMEZONE
TZID:America/Los_Angeles
BEGIN:STANDARD
TZNAME:PST
DTSTART:20231105T020000
TZOFFSETFROM:-0700
TZOFFSETTO:-0800
RDATE:20241103T020000
END:STANDARD
BEGIN:DAYLIGHT
TZNAME:PDT
DTSTART:20240310T020000
TZOFFSETFROM:-0800
TZOFFSETTO:-0700
RDATE:20250309T020000
END:DAYLIGHT
END:VTIMEZONE
BEGIN:VEVENT
UID:038e07e3-b842-429e-8705-f96df93e304e
DTSTAMP:20260425T120426Z
DESCRIPTION:
DTSTART;TZID=America/Los_Angeles:20240419T110000
DTEND;TZID=America/Los_Angeles:20240419T120000
LOCATION:500 N Emerson Ave\, Wenatchee\, WA 98801 US
SUMMARY:Blank Slate
END:VEVENT
END:VCALENDAR
