BEGIN:VCALENDAR
VERSION:2.0
PRODID:-//gardenterrace.us//NONSGML kigkonsult.se iCalcreator 2.30.10//
CALSCALE:GREGORIAN
METHOD:PUBLISH
UID:0ac6c8a2-2b55-47e1-986c-91fe308002e7
X-WR-CALDESC:
X-WR-RELCALID:e35fbe063ceb5fd7eeb9df37cfa2e09f
X-WR-TIMEZONE:America/Los_Angeles
BEGIN:VTIMEZONE
TZID:America/Los_Angeles
BEGIN:STANDARD
TZNAME:PST
DTSTART:20231105T020000
TZOFFSETFROM:-0700
TZOFFSETTO:-0800
RDATE:20241103T020000
END:STANDARD
BEGIN:DAYLIGHT
TZNAME:PDT
DTSTART:20240310T020000
TZOFFSETFROM:-0800
TZOFFSETTO:-0700
RDATE:20250309T020000
END:DAYLIGHT
END:VTIMEZONE
BEGIN:VEVENT
UID:4fb113fd-24d7-4fcf-a739-61274876f63e
DTSTAMP:20260425T120804Z
DESCRIPTION:
DTSTART;TZID=America/Los_Angeles:20240419T130000
DTEND;TZID=America/Los_Angeles:20240419T140000
LOCATION:500 N Emerson Ave\, Wenatchee\, WA 98801 US
SUMMARY:A Matter of Balance
END:VEVENT
END:VCALENDAR
